BEGIN:VCALENDAR
VERSION:2.0
PRODID:-//Comedy Ket - ECPv6.15.18//NONSGML v1.0//EN
CALSCALE:GREGORIAN
METHOD:PUBLISH
X-ORIGINAL-URL:https://www.comedyket.be
X-WR-CALDESC:Évènements pour Comedy Ket
REFRESH-INTERVAL;VALUE=DURATION:PT1H
X-Robots-Tag:noindex
X-PUBLISHED-TTL:PT1H
BEGIN:VTIMEZONE
TZID:Europe/Brussels
BEGIN:DAYLIGHT
TZOFFSETFROM:+0100
TZOFFSETTO:+0200
TZNAME:CEST
DTSTART:20250330T010000
END:DAYLIGHT
BEGIN:STANDARD
TZOFFSETFROM:+0200
TZOFFSETTO:+0100
TZNAME:CET
DTSTART:20251026T010000
END:STANDARD
BEGIN:DAYLIGHT
TZOFFSETFROM:+0100
TZOFFSETTO:+0200
TZNAME:CEST
DTSTART:20260329T010000
END:DAYLIGHT
BEGIN:STANDARD
TZOFFSETFROM:+0200
TZOFFSETTO:+0100
TZNAME:CET
DTSTART:20261025T010000
END:STANDARD
BEGIN:DAYLIGHT
TZOFFSETFROM:+0100
TZOFFSETTO:+0200
TZNAME:CEST
DTSTART:20270328T010000
END:DAYLIGHT
BEGIN:STANDARD
TZOFFSETFROM:+0200
TZOFFSETTO:+0100
TZNAME:CET
DTSTART:20271031T010000
END:STANDARD
END:VTIMEZONE
BEGIN:VEVENT
DTSTART;TZID=Europe/Brussels:20260627T163000
DTEND;TZID=Europe/Brussels:20260627T180000
DTSTAMP:20260424T131741
CREATED:20260228T103147Z
LAST-MODIFIED:20260302T124059Z
UID:10000350-1782577800-1782583200@www.comedyket.be
SUMMARY:Le Ket Comedy Show
DESCRIPTION:5 humoristes\, 12 minutes chacun\, pour (attends\, 5 × 12…) une heure de stand-up : voilà le Ket Comedy Show.\nDes talents prometteurs aux artistes confirmés\, ils apportent chacun leur personnalité et leur style\, rien que pour toi. Le stand-up belge à son prime\, rythmé et accessible à tous.\nMais attention\, une heure avec ces humoristes passe tellement vite que tu voudras déjà réserver pour le prochain plateau !
URL:https://www.comedyket.be/evenement/le-ket-comedy-show-4/
LOCATION:Comedy Ket – Saint-Gery\, rue saint gery 31\, Bruxelles\, Bruxelles\, 1000\, Belgium
CATEGORIES:Rue Saint-Gery
ATTACH;FMTTYPE=image/jpeg:https://www.comedyket.be/wp-content/uploads/2026/02/1329_image_642277982_1448923220578712_298845177798998045_n.jpg
END:VEVENT
BEGIN:VEVENT
DTSTART;TZID=Europe/Brussels:20260627T180000
DTEND;TZID=Europe/Brussels:20260627T193000
DTSTAMP:20260424T131741
CREATED:20260328T125325Z
LAST-MODIFIED:20260328T125325Z
UID:10000517-1782583200-1782588600@www.comedyket.be
SUMMARY:Le Ket Comedy Show
DESCRIPTION:5 humoristes\, 12 minutes chacun\, pour (attends\, 5 × 12…) une heure de stand-up : voilà le Ket Comedy Show.\nDes talents prometteurs aux artistes confirmés\, ils apportent chacun leur personnalité et leur style\, rien que pour toi. Le stand-up belge à son prime\, rythmé et accessible à tous.\nMais attention\, une heure avec ces humoristes passe tellement vite que tu voudras déjà réserver pour le prochain plateau !
URL:https://www.comedyket.be/evenement/le-ket-comedy-show-18/
LOCATION:Comedy Ket – Saint-Gery\, rue saint gery 31\, Bruxelles\, Bruxelles\, 1000\, Belgium
ATTACH;FMTTYPE=image/jpeg:https://www.comedyket.be/wp-content/uploads/2026/02/1329_image_642277982_1448923220578712_298845177798998045_n.jpg
END:VEVENT
BEGIN:VEVENT
DTSTART;TZID=Europe/Brussels:20260629T200000
DTEND;TZID=Europe/Brussels:20260629T213000
DTSTAMP:20260424T131741
CREATED:20260225T135056Z
LAST-MODIFIED:20260225T135538Z
UID:10000095-1782763200-1782768600@www.comedyket.be
SUMMARY:Nouvelle école\, La Nouvelle Génération du Stand-Up
DESCRIPTION:Le comedy ket est la plateforme qui organise le plus de plateaux/spectacles de stand up en Belgique; nous avons donc une vision globale de ce qui se passe dans le milieu du stand up. Nous avons séléctionné pour vous la nouvelle génération de stand uppeur\, ils s’agit de ceux/celles qui débutent dans « le game » et qui se démarquent déja par leurs talents/originalités\, nous avons décidé de leur donner les clés du comedy club tous les mercredis pendant 1h30 pour qu’ils puissent bosser et continuer d’évoluer sous vos yeux. Venez assister à l’éclosion de ces talents
URL:https://www.comedyket.be/evenement/nouvelle-ecole-la-nouvelle-generation-du-stand-up/
LOCATION:Comedy Ket – Saint-Gery\, rue saint gery 31\, Bruxelles\, Bruxelles\, 1000\, Belgium
CATEGORIES:Rue Saint-Gery
ATTACH;FMTTYPE=image/jpeg:https://www.comedyket.be/wp-content/uploads/2026/02/492_image_641272580_1446319417505759_8199146373146810870_n.jpg
END:VEVENT
BEGIN:VEVENT
DTSTART;TZID=Europe/Brussels:20260630T190000
DTEND;TZID=Europe/Brussels:20260630T203000
DTSTAMP:20260424T131741
CREATED:20260225T113057Z
LAST-MODIFIED:20260225T121142Z
UID:10000026-1782846000-1782851400@www.comedyket.be
SUMMARY:Scène Ouverte Du Ket
DESCRIPTION:La Scène Ouverte du Ket\, c’est la soirée exclusivité !\nQue ce soit pour des humoristes confirmés ou émergents\, pour une première fois sur scène ou pour peaufiner un texte presque prêt\, la scène leur est ouverte pour tout tester.\nUne line-up différente chaque semaine : aucun mardi ne se ressemble\, mais tous seront réussis !\nPar contre\, c’est du test\, on a dit… Donc on reste bienveillants\, promis ?
URL:https://www.comedyket.be/evenement/scene-ouverte-du-ket-2/
LOCATION:Comedy Ket – Saint-Gery\, rue saint gery 31\, Bruxelles\, Bruxelles\, 1000\, Belgium
CATEGORIES:Rue Saint-Gery
ATTACH;FMTTYPE=image/jpeg:https://www.comedyket.be/wp-content/uploads/2026/02/379_image_641375138_1446242797513421_5717106391006066088_n.jpg
END:VEVENT
BEGIN:VEVENT
DTSTART;TZID=Europe/Brussels:20260630T210000
DTEND;TZID=Europe/Brussels:20260630T223000
DTSTAMP:20260424T131741
CREATED:20260225T113056Z
LAST-MODIFIED:20260225T121024Z
UID:10000025-1782853200-1782858600@www.comedyket.be
SUMMARY:Scène Ouverte Du Ket
DESCRIPTION:La Scène Ouverte du Ket\, c’est la soirée exclusivité !\nQue ce soit pour des humoristes confirmés ou émergents\, pour une première fois sur scène ou pour peaufiner un texte presque prêt\, la scène leur est ouverte pour tout tester.\nUne line-up différente chaque semaine : aucun mardi ne se ressemble\, mais tous seront réussis !\nPar contre\, c’est du test\, on a dit… Donc on reste bienveillants\, promis ?
URL:https://www.comedyket.be/evenement/scene-ouverte-du-ket/
LOCATION:Comedy Ket – Saint-Gery\, rue saint gery 31\, Bruxelles\, Bruxelles\, 1000\, Belgium
CATEGORIES:Rue Saint-Gery
ATTACH;FMTTYPE=image/jpeg:https://www.comedyket.be/wp-content/uploads/2026/02/379_image_641375138_1446242797513421_5717106391006066088_n.jpg
END:VEVENT
END:VCALENDAR